BEGIN:VCALENDAR
VERSION:2.0
PRODID:-//In Accord - ECPv6.15.20//NONSGML v1.0//EN
CALSCALE:GREGORIAN
METHOD:PUBLISH
X-WR-CALNAME:In Accord
X-ORIGINAL-URL:https://inaccordsingers.co.uk
X-WR-CALDESC:Events for In Accord
REFRESH-INTERVAL;VALUE=DURATION:PT1H
X-Robots-Tag:noindex
X-PUBLISHED-TTL:PT1H
BEGIN:VTIMEZONE
TZID:Europe/London
BEGIN:DAYLIGHT
TZOFFSETFROM:+0000
TZOFFSETTO:+0100
TZNAME:BST
DTSTART:20220327T010000
END:DAYLIGHT
BEGIN:STANDARD
TZOFFSETFROM:+0100
TZOFFSETTO:+0000
TZNAME:GMT
DTSTART:20221030T010000
END:STANDARD
BEGIN:DAYLIGHT
TZOFFSETFROM:+0000
TZOFFSETTO:+0100
TZNAME:BST
DTSTART:20230326T010000
END:DAYLIGHT
BEGIN:STANDARD
TZOFFSETFROM:+0100
TZOFFSETTO:+0000
TZNAME:GMT
DTSTART:20231029T010000
END:STANDARD
BEGIN:DAYLIGHT
TZOFFSETFROM:+0000
TZOFFSETTO:+0100
TZNAME:BST
DTSTART:20240331T010000
END:DAYLIGHT
BEGIN:STANDARD
TZOFFSETFROM:+0100
TZOFFSETTO:+0000
TZNAME:GMT
DTSTART:20241027T010000
END:STANDARD
END:VTIMEZONE
BEGIN:VEVENT
DTSTART;VALUE=DATE:20231205
DTEND;VALUE=DATE:20231206
DTSTAMP:20260425T145136
CREATED:20231020T143213Z
LAST-MODIFIED:20231031T113951Z
UID:990-1701734400-1701820799@inaccordsingers.co.uk
SUMMARY:St John's WI
DESCRIPTION:Private Event
URL:https://inaccordsingers.co.uk/event/musical-memories-copy/
LOCATION:Surrey
CATEGORIES:Private Events
ATTACH;FMTTYPE=image/png:https://inaccordsingers.co.uk/wp-content/uploads/2023/10/logo_medium-red-e1697549202681.png
END:VEVENT
BEGIN:VEVENT
DTSTART;VALUE=DATE:20231216
DTEND;VALUE=DATE:20231217
DTSTAMP:20260425T145136
CREATED:20231026T112744Z
LAST-MODIFIED:20231031T113531Z
UID:1126-1702684800-1702771199@inaccordsingers.co.uk
SUMMARY:Abbeyfields Care Home
DESCRIPTION:Private Event\n 
URL:https://inaccordsingers.co.uk/event/abbeyfields-care-home/
LOCATION:Surrey
CATEGORIES:Private Events
ATTACH;FMTTYPE=image/png:https://inaccordsingers.co.uk/wp-content/uploads/2023/10/logo_medium-red-e1697549202681.png
END:VEVENT
END:VCALENDAR